BEGIN:VCALENDAR
VERSION:2.0
PRODID:-//Beach Cities Health District - ECPv6.13.2.1//NONSGML v1.0//EN
CALSCALE:GREGORIAN
METHOD:PUBLISH
X-ORIGINAL-URL:https://bchd.org
X-WR-CALDESC:Events for Beach Cities Health District
REFRESH-INTERVAL;VALUE=DURATION:PT1H
X-Robots-Tag:noindex
X-PUBLISHED-TTL:PT1H
BEGIN:VTIMEZONE
TZID:America/Los_Angeles
BEGIN:DAYLIGHT
TZOFFSETFROM:-0800
TZOFFSETTO:-0700
TZNAME:PDT
DTSTART:20250309T100000
END:DAYLIGHT
BEGIN:STANDARD
TZOFFSETFROM:-0700
TZOFFSETTO:-0800
TZNAME:PST
DTSTART:20251102T090000
END:STANDARD
END:VTIMEZONE
BEGIN:VEVENT
DTSTART;TZID=America/Los_Angeles:20250924T183000
DTEND;TZID=America/Los_Angeles:20250924T203000
DTSTAMP:20260424T091607
CREATED:20250911T162653Z
LAST-MODIFIED:20250911T165835Z
UID:10004167-1758738600-1758745800@bchd.org
SUMMARY:Blue Zones Cooking Class at Lazy Acres
DESCRIPTION:Culinary Tour: Loma Linda\, California – Inspired by Blue Zones  \nOn the Menu:\nPesto Couscous with Artichokes\, Asparagus & Sun-Dried Tomatoes *Blue Zones Inspired\nBlackened Salmon Caesar Salad\nHomemade Sweet Potato Fries with Spicy Aioli *Blue Zones Inspired  \nInstructor: Chef Ginger  \nFor more information and to register\, please visit here. \n“Blue Zones Project® is a community health initiative introduced in the South Bay through Beach Cities Health District in 2010. In 2016\, the Beach Cities (Hermosa Beach\, Manhattan Beach & Redondo Beach) became a certified Blue Zones Community®. Through innovative partnerships with local organizations\, restaurants and grocery stores like Lazy Acres Market in Hermosa Beach\, Blue Zones Project empowers people to make healthier choices inspired by places around the world where people live to 100.”
URL:https://bchd.org/event/blue-zones-cooking-class-at-lazy-acres-3/
LOCATION:Lazy Acres Natural Market\, Lazy Acres Natural Market\, Hermosa Beach\, CA\, 90254\, United States
CATEGORIES:Community
ATTACH;FMTTYPE=image/jpeg:https://bchd.blob.core.windows.net/production/2025/09/Picture5.jpg
END:VEVENT
BEGIN:VEVENT
DTSTART;TZID=America/Los_Angeles:20250917T183000
DTEND;TZID=America/Los_Angeles:20250917T203000
DTSTAMP:20260424T091607
CREATED:20250911T161145Z
LAST-MODIFIED:20250911T165642Z
UID:10004166-1758133800-1758141000@bchd.org
SUMMARY:Blue Zones Cooking Class at Lazy Acres
DESCRIPTION:Culinary Tour: Okinawa\, Japan – Inspired by Blue Zones \nOn the Menu:\nVeggie Champuru (Stir-Fry with Tofu & Vegetables) *Blue Zones Inspired\nOkinawan Purple Sweet Potato & Miso Soup *Blue Zones Inspired\nHijiki Seaweed Salad with Edamame & Yuzu Dressing *Blue Zones Inspired \nInstructor: Chef Fernanda \nFor more information and to register\, please visit here. \n“Blue Zones Project® is a community health initiative introduced in the South Bay through Beach Cities Health District in 2010. In 2016\, the Beach Cities (Hermosa Beach\, Manhattan Beach & Redondo Beach) became a certified Blue Zones Community®. Through innovative partnerships with local organizations\, restaurants and grocery stores like Lazy Acres Market in Hermosa Beach\, Blue Zones Project empowers people to make healthier choices inspired by places around the world where people live to 100.”
URL:https://bchd.org/event/blue-zones-cooking-class-at-lazy-acres-2/
LOCATION:Lazy Acres Natural Market\, Lazy Acres Natural Market\, Hermosa Beach\, CA\, 90254\, United States
ATTACH;FMTTYPE=image/jpeg:https://bchd.blob.core.windows.net/production/2025/09/Picture4.jpg
END:VEVENT
BEGIN:VEVENT
DTSTART;TZID=America/Los_Angeles:20250916T160000
DTEND;TZID=America/Los_Angeles:20250916T173000
DTSTAMP:20260424T091607
CREATED:20250911T155458Z
LAST-MODIFIED:20250911T164955Z
UID:10004165-1758038400-1758043800@bchd.org
SUMMARY:Blue Zones Cooking Class for Kids at Lazy Acres
DESCRIPTION:Adventure in Japan – Inspired by Blue Zones \nOn the menu:\nOnigiri\nMiso Maple Banana Bread  \nInstructor: Chef Carrie  \nRecommended ages: 6-10 years old  \nFor more information and to register\, please visit here. \n“Blue Zones Project® is a community health initiative introduced in the South Bay through Beach Cities Health District in 2010. In 2016\, the Beach Cities (Hermosa Beach\, Manhattan Beach & Redondo Beach) became a certified Blue Zones Community®. Through innovative partnerships with local organizations\, restaurants and grocery stores like Lazy Acres Market in Hermosa Beach\, Blue Zones Project empowers people to make healthier choices inspired by places around the world where people live to 100.”
URL:https://bchd.org/event/blue-zones-cooking-class-at-lazy-acres/
LOCATION:Lazy Acres Natural Market\, Lazy Acres Natural Market\, Hermosa Beach\, CA\, 90254\, United States
CATEGORIES:Community
ATTACH;FMTTYPE=image/jpeg:https://bchd.blob.core.windows.net/production/2025/09/Picture3.jpg
END:VEVENT
BEGIN:VEVENT
DTSTART;TZID=America/Los_Angeles:20250913T100000
DTEND;TZID=America/Los_Angeles:20250913T113000
DTSTAMP:20260424T091607
CREATED:20250910T225220Z
LAST-MODIFIED:20250911T165220Z
UID:10004164-1757757600-1757763000@bchd.org
SUMMARY:Blue Zones Cooking Class for Kids at Lazy Acres
DESCRIPTION:Adventure in Italy – Inspired by Blue Zones \nOn the menu:\nMini Herb “Meat Balls” *Blue Zones Inspired\nHomemade Tomato Dipping Sauce *Blue Zones Inspired\nCitrus Fig Bites *Blue Zones Inspired \nInstructor: Chef Arm \nRecommended ages: 6-10 years old \nFor more information and to register\, please visit here>. \n“Blue Zones Project® is a community health initiative introduced in the South Bay through Beach Cities Health District in 2010. In 2016\, the Beach Cities (Hermosa Beach\, Manhattan Beach & Redondo Beach) became a certified Blue Zones Community®. Through innovative partnerships with local organizations\, restaurants and grocery stores like Lazy Acres Market in Hermosa Beach\, Blue Zones Project empowers people to make healthier choices inspired by places around the world where people live to 100.”
URL:https://bchd.org/event/blue-zones-cooking-class-adventure-in-italy-inspired-by-blue-zones/
LOCATION:Lazy Acres Natural Market\, Lazy Acres Natural Market\, Hermosa Beach\, CA\, 90254\, United States
CATEGORIES:Community
END:VEVENT
BEGIN:VEVENT
DTSTART;TZID=America/Los_Angeles:20250910T183000
DTEND;TZID=America/Los_Angeles:20250910T203000
DTSTAMP:20260424T091607
CREATED:20250909T222430Z
LAST-MODIFIED:20250909T222918Z
UID:10004162-1757529000-1757536200@bchd.org
SUMMARY:Blue Zones Cooking Class: Sardinia\, Italy – Inspired by Blue Zones
DESCRIPTION:Culinary Tour: Sardinia\, Italy – Inspired by Blue Zones\nWhat’s on the Menu?\nSautee Swiss Chard *Blue Zones Inspired\nMalloreddus (Sardinian Gnocchetti) with Rustic Tomato Sauce *Blue Zones Inspired\nRicotta & Honey Cups with Toasted Nuts  \nInstructor: Chef Fernanda\nRegister Here \n“Blue Zones Project® is a community health initiative introduced in the South Bay through Beach Cities Health District in 2010. In 2016\, the Beach Cities (Hermosa Beach\, Manhattan Beach and Redondo Beach) became a certified Blue Zones Community®. Through innovative partnerships with local organizations\, restaurants and grocery stores like Lazy Acres Natural Market in Hermosa Beach\, Blue Zones Project empowers people to make healthier choices inspired by places around the world where people live to 100.”
URL:https://bchd.org/event/blue-zones-cooking-class-sardinia-italy-inspired-by-blue-zones/
LOCATION:Lazy Acres Natural Market\, Lazy Acres Natural Market\, Hermosa Beach\, CA\, 90254\, United States
CATEGORIES:Community
ATTACH;FMTTYPE=image/jpeg:https://bchd.blob.core.windows.net/production/2025/09/BZP-Sardinia-Italy.jpg
END:VEVENT
BEGIN:VEVENT
DTSTART;TZID=America/Los_Angeles:20250625T183000
DTEND;TZID=America/Los_Angeles:20250625T203000
DTSTAMP:20260424T091607
CREATED:20250611T215052Z
LAST-MODIFIED:20250611T215053Z
UID:10002246-1750876200-1750883400@bchd.org
SUMMARY:A Taste of Blue Zones:  Blue Zones Cooking Classes are back!
DESCRIPTION:Lazy Acres Natural Market in Hermosa Beach has been a certified Blue Zones Project Grocery Store since 2018\, specializing in health and wellness. This June\, their series of Blue Zones Project-inspired cooking classes returns with a twist! \nChefs will take inspiration from the regions around the world where people live to 100 and craft their own Blue Zones-Inspired dishes. \nWednesday\, June 4\nCulinary Tour: Sardinia\, Italy – Inspired by Blue Zones\nWednesday\, June 11\nCulinary Tour: Ikaria\, Greece – Inspired by Blue Zones\nWednesday\, June 18\nCulinary Tour: Okinawa\, Japan – Inspired by Blue Zones\nWednesday\, June 25\nCulinary Tour: Loma Linda\, California – Inspired by Blue Zones
URL:https://bchd.org/event/a-taste-of-blue-zones-blue-zones-cooking-classes-are-back-2/2025-06-25/
LOCATION:Lazy Acres Natural Market\, Lazy Acres Natural Market\, Hermosa Beach\, CA\, 90254\, United States
CATEGORIES:BCHD
ATTACH;FMTTYPE=image/jpeg:https://bchd.blob.core.windows.net/production/2025/05/06.04-Sardinia-Italy-Inspired-by-Blue-Zones-1-300x300-1.jpg
END:VEVENT
BEGIN:VEVENT
DTSTART;TZID=America/Los_Angeles:20250618T183000
DTEND;TZID=America/Los_Angeles:20250618T203000
DTSTAMP:20260424T091607
CREATED:20250611T215052Z
LAST-MODIFIED:20250611T215053Z
UID:10002245-1750271400-1750278600@bchd.org
SUMMARY:A Taste of Blue Zones:  Blue Zones Cooking Classes are back!
DESCRIPTION:Lazy Acres Natural Market in Hermosa Beach has been a certified Blue Zones Project Grocery Store since 2018\, specializing in health and wellness. This June\, their series of Blue Zones Project-inspired cooking classes returns with a twist! \nChefs will take inspiration from the regions around the world where people live to 100 and craft their own Blue Zones-Inspired dishes. \nWednesday\, June 4\nCulinary Tour: Sardinia\, Italy – Inspired by Blue Zones\nWednesday\, June 11\nCulinary Tour: Ikaria\, Greece – Inspired by Blue Zones\nWednesday\, June 18\nCulinary Tour: Okinawa\, Japan – Inspired by Blue Zones\nWednesday\, June 25\nCulinary Tour: Loma Linda\, California – Inspired by Blue Zones
URL:https://bchd.org/event/a-taste-of-blue-zones-blue-zones-cooking-classes-are-back-2/2025-06-18/
LOCATION:Lazy Acres Natural Market\, Lazy Acres Natural Market\, Hermosa Beach\, CA\, 90254\, United States
CATEGORIES:BCHD
ATTACH;FMTTYPE=image/jpeg:https://bchd.blob.core.windows.net/production/2025/05/06.04-Sardinia-Italy-Inspired-by-Blue-Zones-1-300x300-1.jpg
END:VEVENT
BEGIN:VEVENT
DTSTART;TZID=America/Los_Angeles:20250611T183000
DTEND;TZID=America/Los_Angeles:20250611T203000
DTSTAMP:20260424T091607
CREATED:20250611T215052Z
LAST-MODIFIED:20250611T215053Z
UID:10002244-1749666600-1749673800@bchd.org
SUMMARY:A Taste of Blue Zones:  Blue Zones Cooking Classes are back!
DESCRIPTION:Lazy Acres Natural Market in Hermosa Beach has been a certified Blue Zones Project Grocery Store since 2018\, specializing in health and wellness. This June\, their series of Blue Zones Project-inspired cooking classes returns with a twist! \nChefs will take inspiration from the regions around the world where people live to 100 and craft their own Blue Zones-Inspired dishes. \nWednesday\, June 4\nCulinary Tour: Sardinia\, Italy – Inspired by Blue Zones\nWednesday\, June 11\nCulinary Tour: Ikaria\, Greece – Inspired by Blue Zones\nWednesday\, June 18\nCulinary Tour: Okinawa\, Japan – Inspired by Blue Zones\nWednesday\, June 25\nCulinary Tour: Loma Linda\, California – Inspired by Blue Zones
URL:https://bchd.org/event/a-taste-of-blue-zones-blue-zones-cooking-classes-are-back-2/2025-06-11/
LOCATION:Lazy Acres Natural Market\, Lazy Acres Natural Market\, Hermosa Beach\, CA\, 90254\, United States
CATEGORIES:BCHD
ATTACH;FMTTYPE=image/jpeg:https://bchd.blob.core.windows.net/production/2025/05/06.04-Sardinia-Italy-Inspired-by-Blue-Zones-1-300x300-1.jpg
END:VEVENT
BEGIN:VEVENT
DTSTART;TZID=America/Los_Angeles:20250604T183000
DTEND;TZID=America/Los_Angeles:20250604T203000
DTSTAMP:20260424T091607
CREATED:20250528T205718Z
LAST-MODIFIED:20250604T221831Z
UID:10002243-1749061800-1749069000@bchd.org
SUMMARY:A Taste of Blue Zones:  Blue Zones Cooking Classes are back!
DESCRIPTION:Lazy Acres Natural Market in Hermosa Beach has been a certified Blue Zones Project Grocery Store since 2018\, specializing in health and wellness. This June\, their series of Blue Zones Project-inspired cooking classes returns with a twist! \nChefs will take inspiration from the regions around the world where people live to 100 and craft their own Blue Zones-Inspired dishes. \nWednesday\, June 4\nCulinary Tour: Sardinia\, Italy – Inspired by Blue Zones\nWednesday\, June 11\nCulinary Tour: Ikaria\, Greece – Inspired by Blue Zones\nWednesday\, June 18\nCulinary Tour: Okinawa\, Japan – Inspired by Blue Zones\nWednesday\, June 25\nCulinary Tour: Loma Linda\, California – Inspired by Blue Zones
URL:https://bchd.org/event/a-taste-of-blue-zones-blue-zones-cooking-classes-are-back/
LOCATION:Lazy Acres Natural Market\, Lazy Acres Natural Market\, Hermosa Beach\, CA\, 90254\, United States
CATEGORIES:BCHD
ATTACH;FMTTYPE=image/jpeg:https://bchd.blob.core.windows.net/production/2025/05/BlueZones-Grocery-pagebanner_1.jpg
END:VEVENT
END:VCALENDAR