BEGIN:VCALENDAR
VERSION:2.0
PRODID:-//Beach Cities Health District - ECPv6.13.2.1//NONSGML v1.0//EN
CALSCALE:GREGORIAN
METHOD:PUBLISH
X-WR-CALNAME:Beach Cities Health District
X-ORIGINAL-URL:https://bchd.org
X-WR-CALDESC:Events for Beach Cities Health District
REFRESH-INTERVAL;VALUE=DURATION:PT1H
X-Robots-Tag:noindex
X-PUBLISHED-TTL:PT1H
BEGIN:VTIMEZONE
TZID:America/Los_Angeles
BEGIN:DAYLIGHT
TZOFFSETFROM:-0800
TZOFFSETTO:-0700
TZNAME:PDT
DTSTART:20300310T100000
END:DAYLIGHT
BEGIN:STANDARD
TZOFFSETFROM:-0700
TZOFFSETTO:-0800
TZNAME:PST
DTSTART:20301103T090000
END:STANDARD
END:VTIMEZONE
BEGIN:VEVENT
DTSTART;TZID=America/Los_Angeles:20300212T100000
DTEND;TZID=America/Los_Angeles:20300212T110000
DTSTAMP:20260424T090226
CREATED:20250507T183123Z
LAST-MODIFIED:20250827T163606Z
UID:10001349-1897120800-1897124400@bchd.org
SUMMARY:Virtual Families Connected Parent Chat
DESCRIPTION:The Families Connected Parent Chat is a free monthly support group open to all South Bay parents and caregivers. Provided in partnership between BCHD\, South Bay Families Connected and Thelma McMillen Center\, the Parent Chat offers its participants a confidential and supportive space to share their parenting challenges and successes. Please note that the Parent Chat is not a therapeutic program\, but rather a peer-to-peer support group with educational guidance from a mental health professional.\nZoom: https://us06web.zoom.us/j/87374623578
URL:https://bchd.org/event/virtual-families-connected-parent-chat/2030-02-12/
CATEGORIES:BCHD
ATTACH;FMTTYPE=image/jpeg:https://bchd.blob.core.windows.net/production/2025/05/Parent-Chat.jpg
LOCATION:https://us06web.zoom.us/j/87374623578
END:VEVENT
BEGIN:VEVENT
DTSTART;TZID=America/Los_Angeles:20300312T100000
DTEND;TZID=America/Los_Angeles:20300312T110000
DTSTAMP:20260424T090226
CREATED:20250507T183123Z
LAST-MODIFIED:20250827T163606Z
UID:10001350-1899540000-1899543600@bchd.org
SUMMARY:Virtual Families Connected Parent Chat
DESCRIPTION:The Families Connected Parent Chat is a free monthly support group open to all South Bay parents and caregivers. Provided in partnership between BCHD\, South Bay Families Connected and Thelma McMillen Center\, the Parent Chat offers its participants a confidential and supportive space to share their parenting challenges and successes. Please note that the Parent Chat is not a therapeutic program\, but rather a peer-to-peer support group with educational guidance from a mental health professional.\nZoom: https://us06web.zoom.us/j/87374623578
URL:https://bchd.org/event/virtual-families-connected-parent-chat/2030-03-12/
CATEGORIES:BCHD
ATTACH;FMTTYPE=image/jpeg:https://bchd.blob.core.windows.net/production/2025/05/Parent-Chat.jpg
LOCATION:https://us06web.zoom.us/j/87374623578
END:VEVENT
BEGIN:VEVENT
DTSTART;TZID=America/Los_Angeles:20300409T100000
DTEND;TZID=America/Los_Angeles:20300409T110000
DTSTAMP:20260424T090226
CREATED:20250507T183123Z
LAST-MODIFIED:20250827T163606Z
UID:10001351-1901959200-1901962800@bchd.org
SUMMARY:Virtual Families Connected Parent Chat
DESCRIPTION:The Families Connected Parent Chat is a free monthly support group open to all South Bay parents and caregivers. Provided in partnership between BCHD\, South Bay Families Connected and Thelma McMillen Center\, the Parent Chat offers its participants a confidential and supportive space to share their parenting challenges and successes. Please note that the Parent Chat is not a therapeutic program\, but rather a peer-to-peer support group with educational guidance from a mental health professional.\nZoom: https://us06web.zoom.us/j/87374623578
URL:https://bchd.org/event/virtual-families-connected-parent-chat/2030-04-09/
CATEGORIES:BCHD
ATTACH;FMTTYPE=image/jpeg:https://bchd.blob.core.windows.net/production/2025/05/Parent-Chat.jpg
LOCATION:https://us06web.zoom.us/j/87374623578
END:VEVENT
BEGIN:VEVENT
DTSTART;TZID=America/Los_Angeles:20300514T100000
DTEND;TZID=America/Los_Angeles:20300514T110000
DTSTAMP:20260424T090226
CREATED:20250507T183123Z
LAST-MODIFIED:20250827T163606Z
UID:10002240-1904983200-1904986800@bchd.org
SUMMARY:Virtual Families Connected Parent Chat
DESCRIPTION:The Families Connected Parent Chat is a free monthly support group open to all South Bay parents and caregivers. Provided in partnership between BCHD\, South Bay Families Connected and Thelma McMillen Center\, the Parent Chat offers its participants a confidential and supportive space to share their parenting challenges and successes. Please note that the Parent Chat is not a therapeutic program\, but rather a peer-to-peer support group with educational guidance from a mental health professional.\nZoom: https://us06web.zoom.us/j/87374623578
URL:https://bchd.org/event/virtual-families-connected-parent-chat/2030-05-14/
CATEGORIES:BCHD
ATTACH;FMTTYPE=image/jpeg:https://bchd.blob.core.windows.net/production/2025/05/Parent-Chat.jpg
LOCATION:https://us06web.zoom.us/j/87374623578
END:VEVENT
BEGIN:VEVENT
DTSTART;TZID=America/Los_Angeles:20300611T100000
DTEND;TZID=America/Los_Angeles:20300611T110000
DTSTAMP:20260424T090226
CREATED:20250507T183123Z
LAST-MODIFIED:20250827T163606Z
UID:10004141-1907402400-1907406000@bchd.org
SUMMARY:Virtual Families Connected Parent Chat
DESCRIPTION:The Families Connected Parent Chat is a free monthly support group open to all South Bay parents and caregivers. Provided in partnership between BCHD\, South Bay Families Connected and Thelma McMillen Center\, the Parent Chat offers its participants a confidential and supportive space to share their parenting challenges and successes. Please note that the Parent Chat is not a therapeutic program\, but rather a peer-to-peer support group with educational guidance from a mental health professional.\nZoom: https://us06web.zoom.us/j/87374623578
URL:https://bchd.org/event/virtual-families-connected-parent-chat/2030-06-11/
CATEGORIES:BCHD
ATTACH;FMTTYPE=image/jpeg:https://bchd.blob.core.windows.net/production/2025/05/Parent-Chat.jpg
LOCATION:https://us06web.zoom.us/j/87374623578
END:VEVENT
BEGIN:VEVENT
DTSTART;TZID=America/Los_Angeles:20300709T100000
DTEND;TZID=America/Los_Angeles:20300709T110000
DTSTAMP:20260424T090226
CREATED:20250507T183123Z
LAST-MODIFIED:20250827T163606Z
UID:10004142-1909821600-1909825200@bchd.org
SUMMARY:Virtual Families Connected Parent Chat
DESCRIPTION:The Families Connected Parent Chat is a free monthly support group open to all South Bay parents and caregivers. Provided in partnership between BCHD\, South Bay Families Connected and Thelma McMillen Center\, the Parent Chat offers its participants a confidential and supportive space to share their parenting challenges and successes. Please note that the Parent Chat is not a therapeutic program\, but rather a peer-to-peer support group with educational guidance from a mental health professional.\nZoom: https://us06web.zoom.us/j/87374623578
URL:https://bchd.org/event/virtual-families-connected-parent-chat/2030-07-09/
CATEGORIES:BCHD
ATTACH;FMTTYPE=image/jpeg:https://bchd.blob.core.windows.net/production/2025/05/Parent-Chat.jpg
LOCATION:https://us06web.zoom.us/j/87374623578
END:VEVENT
BEGIN:VEVENT
DTSTART;TZID=America/Los_Angeles:20300813T100000
DTEND;TZID=America/Los_Angeles:20300813T110000
DTSTAMP:20260424T090226
CREATED:20250507T183123Z
LAST-MODIFIED:20250827T163606Z
UID:10004143-1912845600-1912849200@bchd.org
SUMMARY:Virtual Families Connected Parent Chat
DESCRIPTION:The Families Connected Parent Chat is a free monthly support group open to all South Bay parents and caregivers. Provided in partnership between BCHD\, South Bay Families Connected and Thelma McMillen Center\, the Parent Chat offers its participants a confidential and supportive space to share their parenting challenges and successes. Please note that the Parent Chat is not a therapeutic program\, but rather a peer-to-peer support group with educational guidance from a mental health professional.\nZoom: https://us06web.zoom.us/j/87374623578
URL:https://bchd.org/event/virtual-families-connected-parent-chat/2030-08-13/
CATEGORIES:BCHD
ATTACH;FMTTYPE=image/jpeg:https://bchd.blob.core.windows.net/production/2025/05/Parent-Chat.jpg
LOCATION:https://us06web.zoom.us/j/87374623578
END:VEVENT
END:VCALENDAR