BEGIN:VCALENDAR
VERSION:2.0
PRODID:-//Beach Cities Health District - ECPv6.13.2.1//NONSGML v1.0//EN
CALSCALE:GREGORIAN
METHOD:PUBLISH
X-WR-CALNAME:Beach Cities Health District
X-ORIGINAL-URL:https://bchd.org
X-WR-CALDESC:Events for Beach Cities Health District
REFRESH-INTERVAL;VALUE=DURATION:PT1H
X-Robots-Tag:noindex
X-PUBLISHED-TTL:PT1H
BEGIN:VTIMEZONE
TZID:America/Los_Angeles
BEGIN:DAYLIGHT
TZOFFSETFROM:-0800
TZOFFSETTO:-0700
TZNAME:PDT
DTSTART:20250309T100000
END:DAYLIGHT
BEGIN:STANDARD
TZOFFSETFROM:-0700
TZOFFSETTO:-0800
TZNAME:PST
DTSTART:20251102T090000
END:STANDARD
END:VTIMEZONE
BEGIN:VEVENT
DTSTART;TZID=America/Los_Angeles:20251031T090000
DTEND;TZID=America/Los_Angeles:20251031T130000
DTSTAMP:20260423T084304
CREATED:20250731T161611Z
LAST-MODIFIED:20260411T000036Z
UID:10003384-1761901200-1761915600@bchd.org
SUMMARY:Drop-in Play
DESCRIPTION:Pricing\n\nGeneral admission: $19 R / $21 NR per child\nBundle Play – 5 pack: $90 R / $99 NR\nBundle Play – 10 pack: $175 R / $193 NR\n\nMore Information\n\nAges: 0-12\nReservations are required for two-hour time slots.\nIncludes 2 hours of Drop-In Play with access to Adventure Room play structure\, Reading Corner ToddlerTown (ages 0-5) and if available\, the Sports Court.\nParticipants are required to wear socks.\n\nFor those who want private playdate reservations\, or if you have any questions\, contact member services at advenureplexnews@bchd.org. \n*Drop-in Play & Story Time is not available when Camp is running.
URL:https://bchd.org/event/drop-in-play/2025-10-31/
LOCATION:AdventurePlex\, 1701 Marine Ave\, Manhattan Beach\, CA\, Manhattan Beach\, United States
CATEGORIES:AdventurePlex
ATTACH;FMTTYPE=image/jpeg:https://bchd.blob.core.windows.net/production/2025/05/playstructure-homebanner.jpg
END:VEVENT
BEGIN:VEVENT
DTSTART;TZID=America/Los_Angeles:20251031T093000
DTEND;TZID=America/Los_Angeles:20251031T103000
DTSTAMP:20260423T084304
CREATED:20251001T182125Z
LAST-MODIFIED:20251030T174433Z
UID:10004185-1761903000-1761906600@bchd.org
SUMMARY:Explore Ayurveda with Levi Ben-Shmuel
DESCRIPTION:Balance\, Energy\, and Well-Being \nJoin us at the Center for Health and Fitness for a three-part exploration of Ayurveda\, led by our Tai Chi instructor Levi Ben-Shmuel. Discover the 5\,000-year-old health and wellness system from India\, which\, unlike Western methods that focus on one-size-fits-all advice\, recognizes your unique energetic blueprint. Through tailored lifestyle and nutrition recommendations\, you’ll learn how to restore balance\, increase energy\, and foster a deep sense of well-being. \nDates: October 17\, October 31 and November 14\nTime: 9:30am–10:30am\nLocation: CHF Clubhouse Room\nCost per class: $20\nRegister in MindBody
URL:https://bchd.org/event/explore-ayurveda-with-levi-ben-shmuel/2025-10-31/
LOCATION:Center for Health & Fitness: Clubhouse\, 514 North Prospect Avenue\, Redondo Beach\, CA\, 90277\, United States
CATEGORIES:Center for Health & Fitness
ATTACH;FMTTYPE=image/jpeg:https://bchd.blob.core.windows.net/production/2025/05/0I2A2639-scaled.jpg
END:VEVENT
END:VCALENDAR