BEGIN:VCALENDAR
VERSION:2.0
PRODID:-//Beach Cities Health District - ECPv6.13.2.1//NONSGML v1.0//EN
CALSCALE:GREGORIAN
METHOD:PUBLISH
X-WR-CALNAME:Beach Cities Health District
X-ORIGINAL-URL:https://bchd.org
X-WR-CALDESC:Events for Beach Cities Health District
REFRESH-INTERVAL;VALUE=DURATION:PT1H
X-Robots-Tag:noindex
X-PUBLISHED-TTL:PT1H
BEGIN:VTIMEZONE
TZID:America/Los_Angeles
BEGIN:DAYLIGHT
TZOFFSETFROM:-0800
TZOFFSETTO:-0700
TZNAME:PDT
DTSTART:20260308T100000
END:DAYLIGHT
BEGIN:STANDARD
TZOFFSETFROM:-0700
TZOFFSETTO:-0800
TZNAME:PST
DTSTART:20261101T090000
END:STANDARD
END:VTIMEZONE
BEGIN:VEVENT
DTSTART;TZID=America/Los_Angeles:20260430T110000
DTEND;TZID=America/Los_Angeles:20260430T115500
DTSTAMP:20260424T162809
CREATED:20260402T174549Z
LAST-MODIFIED:20260402T174549Z
UID:10005453-1777546800-1777550100@bchd.org
SUMMARY:PFDs 101: The Basics of Pelvic Floor Disorders
DESCRIPTION:A discussion with a local board-certified urogynecologist/reconstructive pelvic surgeon regarding female pelvic floor disorders and the latest treatment options. Discover simple treatments to get your quality of life back… you do NOT have to live with it! \nDr. Melanie Santos is Board Certified in Urogynecology and Reconstructive Pelvic Surgery. Dr. Santos specializes in helping women with pelvic floor disorders\, including pelvic organ prolapse\, bladder and bowel dysfunction\, and incontinence. \nRegister with the front desk.
URL:https://bchd.org/event/pfds-101-the-basics-of-pelvic-floor-disorders/
LOCATION:Center for Health & Fitness: Clubhouse\, 514 North Prospect Avenue\, Redondo Beach\, CA\, 90277\, United States
CATEGORIES:Center for Health & Fitness
ATTACH;FMTTYPE=image/jpeg:https://bchd.blob.core.windows.net/production/2026/04/Pelvic-Floor-Health.jpg
END:VEVENT
END:VCALENDAR