BEGIN:VCALENDAR
VERSION:2.0
PRODID:-//Beach Cities Health District - ECPv6.13.2.1//NONSGML v1.0//EN
CALSCALE:GREGORIAN
METHOD:PUBLISH
X-WR-CALNAME:Beach Cities Health District
X-ORIGINAL-URL:https://bchd.org
X-WR-CALDESC:Events for Beach Cities Health District
REFRESH-INTERVAL;VALUE=DURATION:PT1H
X-Robots-Tag:noindex
X-PUBLISHED-TTL:PT1H
BEGIN:VTIMEZONE
TZID:America/Los_Angeles
BEGIN:DAYLIGHT
TZOFFSETFROM:-0800
TZOFFSETTO:-0700
TZNAME:PDT
DTSTART:20260308T100000
END:DAYLIGHT
BEGIN:STANDARD
TZOFFSETFROM:-0700
TZOFFSETTO:-0800
TZNAME:PST
DTSTART:20261101T090000
END:STANDARD
END:VTIMEZONE
BEGIN:VEVENT
DTSTART;TZID=America/Los_Angeles:20260410T094500
DTEND;TZID=America/Los_Angeles:20260410T104000
DTSTAMP:20260424T162803
CREATED:20260305T225152Z
LAST-MODIFIED:20260305T225334Z
UID:10005288-1775814300-1775817600@bchd.org
SUMMARY:Stretch & Mobility Workshop with Meredith
DESCRIPTION:Move Better. Recover Faster. Feel Renewed. \nExperience the benefits of improved posture\, reduced pain\, and greater ease in everyday movement as you embark on a journey toward greater freedom of movement. Whether you’re looking to increase mobility\, prevent injury\, or simply feel more open and energized\, this workshop will help you move with greater freedom and step into a healthier\, more vibrant life. Built for all levels – from beginners to seasoned movers. Props used: foam roller and yoga straps. \nView Flyer \nPlease register through MindBody to secure your spot.
URL:https://bchd.org/event/stretch-mobility-workshop-with-meredith/
LOCATION:Center for Health & Fitness: Jade Room\, 514 North Prospect Avenue\, Redondo Beach\, CA\, 90277\, United States
CATEGORIES:Center for Health & Fitness
ATTACH;FMTTYPE=image/jpeg:https://bchd.blob.core.windows.net/production/2025/04/0I2A2532-scaled.jpg
END:VEVENT
END:VCALENDAR