BEGIN:VCALENDAR
VERSION:2.0
PRODID:-//Beach Cities Health District - ECPv6.13.2.1//NONSGML v1.0//EN
CALSCALE:GREGORIAN
METHOD:PUBLISH
X-WR-CALNAME:Beach Cities Health District
X-ORIGINAL-URL:https://bchd.org
X-WR-CALDESC:Events for Beach Cities Health District
REFRESH-INTERVAL;VALUE=DURATION:PT1H
X-Robots-Tag:noindex
X-PUBLISHED-TTL:PT1H
BEGIN:VTIMEZONE
TZID:America/Los_Angeles
BEGIN:DAYLIGHT
TZOFFSETFROM:-0800
TZOFFSETTO:-0700
TZNAME:PDT
DTSTART:20260308T100000
END:DAYLIGHT
BEGIN:STANDARD
TZOFFSETFROM:-0700
TZOFFSETTO:-0800
TZNAME:PST
DTSTART:20261101T090000
END:STANDARD
END:VTIMEZONE
BEGIN:VEVENT
DTSTART;TZID=America/Los_Angeles:20260320T093000
DTEND;TZID=America/Los_Angeles:20260320T103000
DTSTAMP:20260424T180814
CREATED:20260227T183947Z
LAST-MODIFIED:20260305T190121Z
UID:10005287-1773999000-1774002600@bchd.org
SUMMARY:Explore Ayurveda with Levi Ben-Shmuel
DESCRIPTION:Ayurveda Workshops are here in March—reset\, recharge\, and feel your best. \nAyurveda is an ancient wellness practice from India that supports balance through personalized nutrition\, lifestyle habits\, and daily routines. Join us March 6\, 13\, and 27 to learn simple\, practical tips you can use right away to feel more energized\, grounded\, and in sync. \nTime: 9:30am–10:30am\nLocation: CHF Clubhouse Room\nCost per class: $20\nSpots are limited — register at the front desk or on Mindbody using the links below. \n\nMarch 6\nMarch 20\nMarch 27
URL:https://bchd.org/event/explore-ayurveda-with-levi-ben-shmuel-3/2026-03-20/
LOCATION:Center for Health & Fitness: Clubhouse\, 514 North Prospect Avenue\, Redondo Beach\, CA\, 90277\, United States
CATEGORIES:Center for Health & Fitness
ATTACH;FMTTYPE=image/jpeg:https://bchd.blob.core.windows.net/production/2025/05/0I2A2639-scaled.jpg
END:VEVENT
END:VCALENDAR