BEGIN:VCALENDAR
VERSION:2.0
PRODID:-//Beach Cities Health District - ECPv6.13.2.1//NONSGML v1.0//EN
CALSCALE:GREGORIAN
METHOD:PUBLISH
X-ORIGINAL-URL:https://bchd.org
X-WR-CALDESC:Events for Beach Cities Health District
REFRESH-INTERVAL;VALUE=DURATION:PT1H
X-Robots-Tag:noindex
X-PUBLISHED-TTL:PT1H
BEGIN:VTIMEZONE
TZID:America/Los_Angeles
BEGIN:DAYLIGHT
TZOFFSETFROM:-0800
TZOFFSETTO:-0700
TZNAME:PDT
DTSTART:20260308T100000
END:DAYLIGHT
BEGIN:STANDARD
TZOFFSETFROM:-0700
TZOFFSETTO:-0800
TZNAME:PST
DTSTART:20261101T090000
END:STANDARD
END:VTIMEZONE
BEGIN:VEVENT
DTSTART;TZID=America/Los_Angeles:20260514T090000
DTEND;TZID=America/Los_Angeles:20260514T130000
DTSTAMP:20260422T071522
CREATED:20250731T161611Z
LAST-MODIFIED:20260411T000036Z
UID:10003523-1778749200-1778763600@bchd.org
SUMMARY:Drop-in Play
DESCRIPTION:Pricing\n\nGeneral admission: $19 R / $21 NR per child\nBundle Play – 5 pack: $90 R / $99 NR\nBundle Play – 10 pack: $175 R / $193 NR\n\nMore Information\n\nAges: 0-12\nReservations are required for two-hour time slots.\nIncludes 2 hours of Drop-In Play with access to Adventure Room play structure\, Reading Corner ToddlerTown (ages 0-5) and if available\, the Sports Court.\nParticipants are required to wear socks.\n\nFor those who want private playdate reservations\, or if you have any questions\, contact member services at advenureplexnews@bchd.org. \n*Drop-in Play & Story Time is not available when Camp is running.
URL:https://bchd.org/event/drop-in-play/2026-05-14/
LOCATION:AdventurePlex\, 1701 Marine Ave\, Manhattan Beach\, CA\, Manhattan Beach\, United States
CATEGORIES:AdventurePlex
ATTACH;FMTTYPE=image/jpeg:https://bchd.blob.core.windows.net/production/2025/05/playstructure-homebanner.jpg
END:VEVENT
BEGIN:VEVENT
DTSTART;TZID=America/Los_Angeles:20260514T110000
DTEND;TZID=America/Los_Angeles:20260514T113000
DTSTAMP:20260422T071522
CREATED:20251107T182510Z
LAST-MODIFIED:20260411T000252Z
UID:10004343-1778756400-1778758200@bchd.org
SUMMARY:Story Time at AdventurePlex
DESCRIPTION:Come join us for songs\, stories\, and fun!\nBring your little one to the Toddler Town Barn for cozy Story Time with books\, songs\, and a welcoming space to listen\, wiggle\, and explore. \n\nWhen: Mondays & Thursdays\, 11 a.m.\nWhere: Toddler Town Barn\nAudience: Toddlers and their grown-ups\nCost: Free with admission (registration not required)\n\nView AdventurePlex Schedule \n*Drop-in Play & Story Time is not available when Camp is running.
URL:https://bchd.org/event/story-time-at-adventureplex/2026-05-14/
LOCATION:AdventurePlex: Toddler Town Barn\, 1701 Marine Avenue\, Manhattan Beach\, 90266\, United States
CATEGORIES:AdventurePlex
ATTACH;FMTTYPE=image/jpeg:https://bchd.blob.core.windows.net/production/2025/11/Story-Time-scaled.jpg
END:VEVENT
BEGIN:VEVENT
DTSTART;TZID=America/Los_Angeles:20260514T170000
DTEND;TZID=America/Los_Angeles:20260514T175000
DTSTAMP:20260422T071522
CREATED:20260415T181627Z
LAST-MODIFIED:20260415T181627Z
UID:10005508-1778778000-1778781000@bchd.org
SUMMARY:Parent & Caregiver Sound Bath
DESCRIPTION:Hosted by Vedic Vibes\nIn partnership with South Bay Families Connected \nAs caregivers\, many of us don’t make time to fill the cup that we pour from. Whether that is a few quiet moments\, a warm meal\, or an exercise class\, adults and caregivers need to remember they\, too\, have permission to pause\, rest\, and play. \nJoin us for a 50-minute parent / caregiver-specific sound bath hosted by Vedic Vibes in partnership with South Bay Families Connected. This guided meditative experience surrounds you with soothing tones and layered vibrations that gently “bathe” you in sound\, inviting your body into deep relaxation and your mind into stillness. \nAfter a brief grounding\, participants will be guided through restorative soundscapes designed to support rest\, reset\, and renewal. Many leave feeling lighter\, clearer\, and more centered.
URL:https://bchd.org/event/parent-caregiver-sound-bath/2026-05-14/1/
LOCATION:AdventurePlex\, Beach House Room (2nd floor)\, 1701 Marine Avenue\, Manhattan Beach\, CA\, 90266\, United States
CATEGORIES:AdventurePlex,BCHD
ATTACH;FMTTYPE=image/jpeg:https://bchd.blob.core.windows.net/production/2026/04/Sarah-Sound-Bowls-1.jpg
END:VEVENT
BEGIN:VEVENT
DTSTART;TZID=America/Los_Angeles:20260514T180000
DTEND;TZID=America/Los_Angeles:20260514T185000
DTSTAMP:20260422T071522
CREATED:20260415T181627Z
LAST-MODIFIED:20260415T181627Z
UID:10005509-1778781600-1778784600@bchd.org
SUMMARY:Parent & Caregiver Sound Bath
DESCRIPTION:Hosted by Vedic Vibes\nIn partnership with South Bay Families Connected \nAs caregivers\, many of us don’t make time to fill the cup that we pour from. Whether that is a few quiet moments\, a warm meal\, or an exercise class\, adults and caregivers need to remember they\, too\, have permission to pause\, rest\, and play. \nJoin us for a 50-minute parent / caregiver-specific sound bath hosted by Vedic Vibes in partnership with South Bay Families Connected. This guided meditative experience surrounds you with soothing tones and layered vibrations that gently “bathe” you in sound\, inviting your body into deep relaxation and your mind into stillness. \nAfter a brief grounding\, participants will be guided through restorative soundscapes designed to support rest\, reset\, and renewal. Many leave feeling lighter\, clearer\, and more centered.
URL:https://bchd.org/event/parent-caregiver-sound-bath/2026-05-14/2/
LOCATION:AdventurePlex\, Beach House Room (2nd floor)\, 1701 Marine Avenue\, Manhattan Beach\, CA\, 90266\, United States
CATEGORIES:AdventurePlex,BCHD
ATTACH;FMTTYPE=image/jpeg:https://bchd.blob.core.windows.net/production/2026/04/Sarah-Sound-Bowls-1.jpg
END:VEVENT
END:VCALENDAR